BEGIN:VCALENDAR
VERSION:2.0
PRODID:kirsten-vonderheiden.fuer-die-gruenen.de
METHOD:PUBLISH
BEGIN:VTIMEZONE
TZID:Europe/Berlin
X-LIC-LOCATION:Europe/Berlin
BEGIN:DAYLIGHT
TZOFFSETFROM:+0100
TZOFFSETTO:+0200
TZNAME:CEST
DTSTART:19700329T020000
RRULE:FREQ=YEARLY;INTERVAL=1;BYDAY=-1SU;BYMONTH=3
END:DAYLIGHT
BEGIN:STANDARD
TZOFFSETFROM:+0200
TZOFFSETTO:+0100
TZNAME:CET
DTSTART:19701025T030000
RRULE:FREQ=YEARLY;INTERVAL=1;BYDAY=-1SU;BYMONTH=10
END:STANDARD
END:VTIMEZONE
BEGIN:VEVENT
UID:cc8191009982d67ecad98ffaea22c960@kirsten-vonderheiden.fuer-die-gruenen.de
URL;VALUE=URI:https://kirsten-vonderheiden.fuer-die-gruenen.de/termine/bi
 tte-auch-das-tierheim-freital-unterstuetzen/
LOCATION:
SUMMARY:Bitte auch das Tierheim Freital unterstützen
DESCRIPTION;ALTREP="data:text/html,%0A%3Cp%3EMit%20meinem%20Unternehmen%2
 0habe%20ich%20das%20neue%20Fahrzeug%20mit%20gespondert.%20Bitte%20unterst
 %C3%BCtzen%20auch%20Sie%20das%20Tierheim%20Freital%3A%20%3Ca%20href%3D%22
 https%3A%2F%2Fwww.tierheim-freital.de%2Funterstuetzen-sie-uns%2F%22%20tar
 get%3D%22_blank%22%20rel%3D%22noreferrer%20noopener%22%3Ehttps%3A%2F%2Fww
 w.tierheim-freital.de%2Funterstuetzen-sie-uns%2F%3C%2Fa%3E%3C%2Fp%3E%0A%0
 A%0A%0A%3Cp%3E%3C%2Fp%3E%0A%0A%0A%0A%3Cdiv%20class%3D%22wp-block-columns%
 20alignfull%20is-layout-flex%20wp-container-core-columns-is-layout-9d6595
 d7%20wp-block-columns-is-layout-flex%22%3E%0A%3Cdiv%20class%3D%22wp-block
 -column%20is-layout-flow%20wp-block-column-is-layout-flow%22%20style%3D%2
 2flex-basis%3A100%25%22%3E%3C%2Fdiv%3E%0A%3C%2Fdiv%3E%0A%0A%0A%0A%3Cfigur
 e%20class%3D%22wp-block-gallery%20has-nested-images%20columns-default%20i
 s-cropped%20wp-block-gallery-1%20is-layout-flex%20wp-block-gallery-is-lay
 out-flex%22%3E%0A%3Cfigure%20class%3D%22wp-block-image%20size-large%22%3E
 %3Cimg%20data-id%3D%22149%22%20src%3D%22https%3A%2F%2Fkirsten-vonderheide
 n.fuer-die-gruenen.de%2Fwp-content%2Fuploads%2Fsites%2F3882%2F2024%2F06%2
 F20240624_170225-1-719x1024.jpg%22%20alt%3D%22%22%20class%3D%22wp-image-1
 49%22%20%2F%3E%3C%2Ffigure%3E%0A%3C%2Ffigure%3E%0A%0A%0A%0A%3Cfigure%20cl
 ass%3D%22wp-block-gallery%20has-nested-images%20columns-default%20is-crop
 ped%20wp-block-gallery-2%20is-layout-flex%20wp-block-gallery-is-layout-fl
 ex%22%3E%0A%3Cfigure%20class%3D%22wp-block-image%20size-large%22%3E%3Cimg
 %20data-id%3D%22150%22%20src%3D%22https%3A%2F%2Fkirsten-vonderheiden.fuer
 -die-gruenen.de%2Fwp-content%2Fuploads%2Fsites%2F3882%2F2024%2F06%2F20240
 624_170121-1-1024x387.jpg%22%20alt%3D%22%22%20class%3D%22wp-image-150%22%
 20%2F%3E%3C%2Ffigure%3E%0A%3C%2Ffigure%3E%0A%0A%0A%0A%3Cfigure%20class%3D
 %22wp-block-gallery%20has-nested-images%20columns-default%20is-cropped%20
 wp-block-gallery-3%20is-layout-flex%20wp-block-gallery-is-layout-flex%22%
 3E%0A%3Cfigure%20class%3D%22wp-block-image%20size-large%22%3E%3Cimg%20dat
 a-id%3D%22152%22%20src%3D%22https%3A%2F%2Fkirsten-vonderheiden.fuer-die-g
 ruenen.de%2Fwp-content%2Fuploads%2Fsites%2F3882%2F2024%2F06%2F20240624_17
 0006-1-1024x526.jpg%22%20alt%3D%22%22%20class%3D%22wp-image-152%22%20%2F%
 3E%3C%2Ffigure%3E%0A%3C%2Ffigure%3E%0A":Mit meinem Unternehmen habe ich d
 as neue Fahrzeug mit gespondert. Bitte unterstützen auch Sie das Tierhei
 m Freital: https://www.tierheim-freital.de/unterstuetzen-sie-uns/
CLASS:PUBLIC
DTSTART;TZID=Europe/Berlin:19700101T000000
DTEND;TZID=Europe/Berlin:19700101T010000
DTSTAMP:20260422T015657
END:VEVENT
END:VCALENDAR