BEGIN:VCALENDAR
VERSION:2.0
PRODID:kirsten-vonderheiden.fuer-die-gruenen.de
METHOD:PUBLISH
BEGIN:VTIMEZONE
TZID:Europe/Berlin
X-LIC-LOCATION:Europe/Berlin
BEGIN:DAYLIGHT
TZOFFSETFROM:+0100
TZOFFSETTO:+0200
TZNAME:CEST
DTSTART:19700329T020000
RRULE:FREQ=YEARLY;INTERVAL=1;BYDAY=-1SU;BYMONTH=3
END:DAYLIGHT
BEGIN:STANDARD
TZOFFSETFROM:+0200
TZOFFSETTO:+0100
TZNAME:CET
DTSTART:19701025T030000
RRULE:FREQ=YEARLY;INTERVAL=1;BYDAY=-1SU;BYMONTH=10
END:STANDARD
END:VTIMEZONE
BEGIN:VEVENT
UID:26f506ed8e37f313db8af5676a92dbe8@kirsten-vonderheiden.fuer-die-gruenen.de
URL;VALUE=URI:https://kirsten-vonderheiden.fuer-die-gruenen.de/termine/ma
 ch-dir-mal-ne-waffel/
LOCATION:Ufer der Weißeritz unterhalb des Neumarkts, Freital
SUMMARY:Mach´ Dir mal ne Waffel!
DESCRIPTION;ALTREP="data:text/html,Komm%C2%B4%2F%20Kommen%20Sie%20mit%20d
 en%20Kandidat%2Ainnen%20f%C3%BCr%20die%20Kommunalwahl%20am%2009.%20Juni%2
 02024%20ins%20Gespr%C3%A4ch%21%C2%A0%20Lass%C2%B4%20uns%2F%20Lassen%20Sie
 %20uns%20gemeinsam%20Waffeln%3Cimg%20class%3D%22size-medium%20wp-image-97
 %20alignleft%22%20src%3D%22http%3A%2F%2Fkirsten-vonderheiden.fuer-die-gru
 enen.de%2Fwp-content%2Fuploads%2Fsites%2F3882%2F2024%2F05%2F20240501_1132
 23-225x300.jpg%22%20alt%3D%22%22%20width%3D%22225%22%20height%3D%22300%22
 %20%2F%3E%20%3Cimg%20class%3D%22size-medium%20wp-image-96%20alignleft%22%
 20src%3D%22http%3A%2F%2Fkirsten-vonderheiden.fuer-die-gruenen.de%2Fwp-con
 tent%2Fuploads%2Fsites%2F3882%2F2024%2F05%2FIMG-20240501-WA0030klein-287x
 300.jpg%22%20alt%3D%22%22%20width%3D%22287%22%20height%3D%22300%22%20%2F%
 3E%20%3Cimg%20class%3D%22size-medium%20wp-image-95%20alignleft%22%20src%3
 D%22http%3A%2F%2Fkirsten-vonderheiden.fuer-die-gruenen.de%2Fwp-content%2F
 uploads%2Fsites%2F3882%2F2024%2F05%2F20240501_121032-225x300.jpg%22%20alt
 %3D%22%22%20width%3D%22225%22%20height%3D%22300%22%20%2F%3E%20backen%20un
 d%20%C3%BCberlegen%2C%20was%20unserem%20Ort%20%26amp%3B%20Landkreis%20gut
 %20tut%21%0D%0A%0D%0ADanke%2C%20dass%20Ihr%20da%20ward%20-%20f%C3%BCr%20a
 lle%20Gespr%C3%A4che%20und%20Miteinander%21":Komm´/ Kommen Sie mit den K
 andidat*innen für die Kommunalwahl am 09. Juni 2024 ins Gespräch!  Las
 s´ uns/ Lassen Sie uns gemeinsam Waffeln   backen und überlegen\, was u
 nserem Ort & Landkreis gut tut!\n\nDanke\, dass Ihr da ward - für alle G
 espräche und Miteinander!
CLASS:PUBLIC
DTSTART;TZID=Europe/Berlin:20240501T100000
DTEND;TZID=Europe/Berlin:20240501T130000
DTSTAMP:20260422T014347
END:VEVENT
END:VCALENDAR