BEGIN:VCALENDAR
VERSION:2.0
PRODID:kirsten-vonderheiden.fuer-die-gruenen.de
METHOD:PUBLISH
BEGIN:VTIMEZONE
TZID:Europe/Berlin
X-LIC-LOCATION:Europe/Berlin
BEGIN:DAYLIGHT
TZOFFSETFROM:+0100
TZOFFSETTO:+0200
TZNAME:CEST
DTSTART:19700329T020000
RRULE:FREQ=YEARLY;INTERVAL=1;BYDAY=-1SU;BYMONTH=3
END:DAYLIGHT
BEGIN:STANDARD
TZOFFSETFROM:+0200
TZOFFSETTO:+0100
TZNAME:CET
DTSTART:19701025T030000
RRULE:FREQ=YEARLY;INTERVAL=1;BYDAY=-1SU;BYMONTH=10
END:STANDARD
END:VTIMEZONE
BEGIN:VEVENT
UID:a441928f13e7e32ad384aa0eeee68197@kirsten-vonderheiden.fuer-die-gruenen.de
URL;VALUE=URI:https://kirsten-vonderheiden.fuer-die-gruenen.de/termine/pl
 ausch-am-pelikanbrunnen/
LOCATION:
SUMMARY:Plausch am Pelikanbrunnen
DESCRIPTION;ALTREP="data:text/html,%0A%3Cp%3EEs%20gibt%20drei%20M%C3%B6gl
 ichkeiten%2C%20mir%20am%20Pelikanbrunnen%20auf%20einen%20Plausch%20in%20P
 esterwitz%20zu%20begegnen%3A%3C%2Fp%3E%0A%0A%0A%0A%3Cul%20class%3D%22wp-b
 lock-list%22%3E%0A%3Cli%3Eam%20Mittwoch%2C%2005.06.2024%2016%3A30%20-%201
 7%3A30%20Uhr%3C%2Fli%3E%0A%0A%0A%0A%3Cli%3Eam%20Freitag%2C%2007.06.2024%2
 016%3A30%20-%2017%3A30%20Uhr%3C%2Fli%3E%0A%0A%0A%0A%3Cli%3Eund%20am%20Wah
 ltag%2C%20Sonntag%2C%20den%2009.06.%20zum%20%3Ca%20href%3D%22https%3A%2F%
 2Fwww.freital.de%2FKultur-Tourismus%2FFeste-Veranstaltungen%2FFreitaler-K
 ultur-All-Tage%2FPESTERWITZER-BRUNNENFEST-Buntes-Treiben-zwischen-den-Pel
 ikanen.php%3Fobject%3Dtx%2C3303.4%26amp%3BModID%3D11%26amp%3BFID%3D3303.4
 517.1%26amp%3BNavID%3D2476.93%26amp%3BLa%3D1%22%3EPesterwitzer%20Brunnenf
 est%3C%2Fa%3E%20zwischen%20den%20Pelikanen%3C%2Fli%3E%0A%3C%2Ful%3E%0A%0A
 %0A%0A%3Cp%3ELesen%20Sie%20gerne%20auf%20S.%209%20rechts%20unten%20im%20P
 esterwitzer%20Dorfgefl%C3%BCster%20Ausgabe%202%2F2024%20Nr.%20129%20wer%2
 0ich%20bin%20und%20was%20ich%20f%C3%BCr%20Pesterwitz%20und%20Sie%20erreic
 hen%20mag.%20Sprechen%20wir%20davon%20und%20dar%C3%BCber%20-%20am%20Pelik
 anbrunnen.%3C%2Fp%3E%0A":Es gibt drei Möglichkeiten\, mir am Pelikanbrun
 nen auf einen Plausch in Pesterwitz zu begegnen:\n\nam Mittwoch\, 05.06.2
 024 16:30 - 17:30 Uhr\n\nam Freitag\, 07.06.2024 16:30 - 17:30 Uhr\n\nund
  am Wahltag\, Sonntag\, den 09.06. zum Pesterwitzer Brunnenfest zwischen 
 den Pelikanen\n\nLesen Sie gerne auf S. 9 rechts unten im Pesterwitzer Do
 rfgeflüster Ausgabe 2/2024 Nr. 129 wer ich bin und was ich für Pesterwi
 tz und Sie erreichen mag. Sprechen wir davon und darüber - am Pelikanbru
 nnen.
CLASS:PUBLIC
DTSTART;TZID=Europe/Berlin:19700101T000000
DTEND;TZID=Europe/Berlin:19700101T010000
DTSTAMP:20260422T015219
END:VEVENT
END:VCALENDAR