BEGIN:VCALENDAR
VERSION:2.0
PRODID:kirsten-vonderheiden.fuer-die-gruenen.de
METHOD:PUBLISH
BEGIN:VTIMEZONE
TZID:Europe/Berlin
X-LIC-LOCATION:Europe/Berlin
BEGIN:DAYLIGHT
TZOFFSETFROM:+0100
TZOFFSETTO:+0200
TZNAME:CEST
DTSTART:19700329T020000
RRULE:FREQ=YEARLY;INTERVAL=1;BYDAY=-1SU;BYMONTH=3
END:DAYLIGHT
BEGIN:STANDARD
TZOFFSETFROM:+0200
TZOFFSETTO:+0100
TZNAME:CET
DTSTART:19701025T030000
RRULE:FREQ=YEARLY;INTERVAL=1;BYDAY=-1SU;BYMONTH=10
END:STANDARD
END:VTIMEZONE
BEGIN:VEVENT
UID:86f8e62c211089d4efd6c17b9fd6d740@kirsten-vonderheiden.fuer-die-gruenen.de
URL;VALUE=URI:https://kirsten-vonderheiden.fuer-die-gruenen.de/termine/wo
 chenmarkt-freital/
LOCATION:Neumarkt, Freital
SUMMARY:Wochenmarkt Freital
DESCRIPTION;ALTREP="data:text/html,Wir%20kommen%20ins%20Gespr%C3%A4ch%21%
 0D%0AWo%2C%20wenn%20nicht%20auf%20dem%20Wochenmarkt%20w%C3%A4re%20ein%20g
 uter%20Zeitpunkt%3F%0D%0AIch%20freue%20mich%20%C3%BCber%20Ihre%20Fragen%2
 0und%20Interesse%20am%20Wahlprogramm%20f%C3%BCr%20Pesterwitz%20%26amp%3B%
 20SOE.%20Wir%20sehen%20uns%20-%20auf%20dem%20Wochenmarkt.":Wir kommen ins
  Gespräch!\n\nWo\, wenn nicht auf dem Wochenmarkt wäre ein guter Zeitpu
 nkt?\n\nIch freue mich über Ihre Fragen und Interesse am Wahlprogramm f
 ür Pesterwitz & SOE. Wir sehen uns - auf dem Wochenmarkt.
CLASS:PUBLIC
DTSTART;TZID=Europe/Berlin:20240427T100000
DTEND;TZID=Europe/Berlin:20240427T120000
DTSTAMP:20260422T015652
END:VEVENT
END:VCALENDAR